Workbook

Sheet 0
A23: صندوق سرمایه گذاری بخشی صنایع معیار
A24: صورت وضعیت پورتفوی
A25: برای ماه منتهی به 1405/05/31

Sheet صورت وضعیت
A1: صندوق سرمایه گذاری بخشی صنایع معیار
A2: صورت وضعیت پرتفوی
A3: برای ماه منتهی به 1405/05/31

Sheet سهام
A1: صندوق سرمایه گذاری بخشی صنایع معیار
A2: صورت وضعیت پرتفوی
A3: برای ماه منتهی به 1405/05/31
A6: -1 | B6: سرمایه گذاری ها | AE6: جمع سرمایه‌گذاری‌ها و دارایی‌ها
A7: -1-1 | C7: سرمایه گذاری در سهام و حق تقدم سهام | AE7: 5620628755889
F8: 1405/04/31 | L8: تغییرات طی دوره | T8: 1405/05/31
L9: خرید طی دوره | P9: فروش طی دوره
A10: نام شرکت | E10: تعداد | H10: بهای تمام شده | J10: خالص ارزش فروش | L10: تعداد | N10: بهای تمام شده | P10: تعداد | R10: مبلغ فروش | T10: تعداد | V10: قیمت بازار هر سهم | X10: بهای تمام شده | Z10: خالص ارزش فروش | AB10: درصد به کل دارایی ها
A11: ایران‌ خودرو | E11: 8200000000 | H11: 3205509980900 | J11: 4100853456000 | L11: 0 | N11: 0 | P11: -2275180000 | R11: 1314163837675 | T11: 5924820000 | V11: 647 | X11: 2316106054273 | Z11: 3.8037267e+12 | AB11: =Z11/$AE$7 -> 0.67674398
A12: بانک تجارت | E12: 222800000 | H12: 145250843267 | J12: 116729055168 | L12: 0 | N12: 0 | P12: -145000000 | R12: 92370414676 | T12: 77800000 | V12: 850 | X12: 50720447075 | Z12: 65618815100 | AB12: =Z12/$AE$7 -> 0.01167464
A13: پاریز شرق | E13: 375000 | H13: 10945488554 | J13: 1.5044054e+10 | L13: 0 | N13: 0 | P13: 0 | R13: 0 | T13: 375000 | V13: 49720 | X13: 10945488554 | Z13: 18500874150 | AB13: =Z13/$AE$7 -> 0.0032916022
A14: پتروشیمی پردیس | E14: 3400000 | H14: 43936736211 | J14: 35322827460 | L14: 0 | N14: 0 | P14: 0 | R14: 0 | T14: 3400000 | V14: 10490 | X14: 43936736211 | Z14: 35390301820 | AB14: =Z14/$AE$7 -> 0.0062965023
A15: تولیدی کوچین | E15: 1475169 | H15: 6693024691 | J15: 1.9629101e+10 | L15: 0 | N15: 0 | P15: 0 | R15: 0 | T15: 1475169 | V15: 15310 | X15: 6693024691 | Z15: 2.2410257e+10 | AB15: =Z15/$AE$7 -> 0.0039871441
A16: رهیاب پیام گستران | E16: 585000 | H16: 4281791202 | J16: 3.5914171e+09 | L16: 0 | N16: 0 | P16: 0 | R16: 0 | T16: 585000 | V16: 6187 | X16: 4281791202 | Z16: 3.5914171e+09 | AB16: =Z16/$AE$7 -> 0.0006389707
A17: رینگ اسپرت نور نی ریز | E17: 2650000 | H17: 41980704280 | J17: 44465107105 | L17: 0 | N17: 0 | P17: -1325000 | R17: 24152100005 | T17: 1325000 | V17: 18140 | X17: 20990352139 | Z17: 23849705585 | AB17: =Z17/$AE$7 -> 0.0042432451
A18: زرین ذرت شاهرود | E18: 435000 | H18: 7479974898 | J18: 8.8874151e+09 | L18: 0 | N18: 0 | P18: 0 | R18: 0 | T18: 435000 | V18: 26400 | X18: 7479974898 | Z18: 11395228680 | AB18: =Z18/$AE$7 -> 0.0020273939
A19: گروه‌بهمن‌ | E19: 100000000 | H19: 199287899733 | J19: 169479716000 | L19: 0 | N19: 0 | P19: 0 | R19: 0 | T19: 100000000 | V19: 2451 | X19: 199287899733 | Z19: 243205377000 | AB19: =Z19/$AE$7 -> 0.043270137
A20: نیان باتری خاوران | E20: 257500 | H20: 4199053015 | J20: 3.3573952e+09 | L20: 0 | N20: 0 | P20: 0 | R20: 0 | T20: 257500 | V20: 17270 | X20: 4199053015 | Z20: 4.4126495e+09 | AB20: =Z20/$AE$7 -> 0.00078508112
A21: کشت و صنعت شیفته آرای شرق | E21: 600000 | H21: 4367517268 | J21: 5667846240 | L21: 0 | N21: 0 | P21: 0 | R21: 0 | T21: 600000 | V21: 13500 | X21: 4367517268 | Z21: 8037387000 | AB21: =Z21/$AE$7 -> 0.0014299801
A22: کشت وصنعت و دامپروری پگاه فارس | E22: 360000 | H22: 3562912187 | J22: 6008393304 | L22: 0 | N22: 0 | P22: 0 | R22: 0 | T22: 360000 | V22: 20550 | X22: 3562912187 | Z22: 7340813460 | AB22: =Z22/$AE$7 -> 0.0013060484
... A26: بهمن دیزل | E26: 0 | H26: 0 | J26: 0 | L26: 406500000 | N26: 667104146117 | P26: 0 | R26: 0 | T26: 406500000 | V26: 1637 | X26: 667104146117 | Z26: 660296644935 | AB26: =Z26/$AE$7 -> 0.11747736
A27: جمع | F27: =SUM(E11:F26) -> 8533332919 | H27: =SUM(H11:H26) -> 3684407523528 | J27: =SUM(J11:J26) -> 4.5376621e+12 | L27: =SUM(L11:L26) -> 406562353 | N27: =SUM(N11:N26) -> 927102336453 | P27: =SUM(P11:P26) -> -2421505000 | R27: =SUM(R11:R26) -> 1430686352356 | T27: =SUM(T11:T26) -> 6518390272 | X27: =SUM(X11:X26) -> 3606585185021 | Z27: =SUM(Z11:Z26) -> 5.1976288e+12 | AB27: =SUM(AB11:AB26) -> 0.92474152

Sheet اوراق مشتقه
A1: صندوق سرمایه گذاری بخشی صنایع معیار
A2: صورت وضعیت پرتفوی
A3: برای ماه منتهی به 1405/05/31
A5: اطلاعات آماری مرتبط با اوراق اختیار فروش تبعی خریداری شده توسط صندوق سرمایه گذاری:
I6: 1405/04/31 | AC6: 1405/05/31
A8: نام سهام | I8: تعداد اوراق تبعی | M8: قیمت اعمال | Q8: تاریخ اعمال | W8: نرخ سود موثر | AC8: تعداد اوراق تبعی | AI8: قیمت اعمال | AM8: تاریخ اعمال | AQ8: نرخ سود موثر
A9: اطلاعات آماری مرتبط با موقعیت های اخذ شده در اوراق اختیار معامله توسط صندوق سرمایه گذاری:
C10: 1405/04/31 | Y10: 1405/05/31
A11: نام سهام | C11: نوع اختیار | E11: نوع موقعیت | G11: استراتژی ماخوذه | K11: تعداد اوراق | O11: قیمت اعمال | S11: تاریخ اعمال | Y11: نوع اختیار | AE11: نوع موقعیت | AK11: استراتژی ماخوذه | AO11: تعداد اوراق | AS11: قیمت اعمال | AV11: تاریخ اعمال
A12: اطلاعات آماری مرتبط با قراردادهای آتی توسط صندوق سرمایه گذاری:
C13: 1405/04/31 | O13: 1405/05/31

Sheet واحدهای صندوق
A1: صندوق سرمایه گذاری بخشی صنایع معیار
A2: صورت وضعیت پرتفوی
A3: برای ماه منتهی به 1405/05/31
A5: -2-1 | B5: سرمایه‌گذاری در واحدهای صندوق های سرمایه گذاری
E6: 1405/04/31 | K6: تغییرات طی دوره | S6: 1405/05/31
K7: خرید/صدور طی دوره | O7: فروش/ابطال طی دوره
A8: صندوق | D8: تعداد واحد | G8: بهای تمام شده | I8: خالص ارزش فروش | K8: تعداد | M8: بهای تمام شده | O8: تعداد | Q8: مبلغ فروش | S8: تعداد | U8: قیمت ابطال / بازار هر واحد | W8: بهای تمام شده | Y8: خالص ارزش فروش | AA8: درصد به کل دارایی ها

Sheet اوراق
A1: صندوق سرمایه گذاری بخشی صنایع معیار
A2: صورت وضعیت پرتفوی
A3: برای ماه منتهی به 1405/05/31
A5: -3-1 | B5: سرمایه‌گذاری در اوراق بهادار با درآمد ثابت یا علی‌الحساب
A6: اطلاعات اوراق با درآمد ثابت | P6: 1405/04/31 | V6: تغییرات طی دوره | AD6: 1405/05/31
V7: خرید طی دوره | Z7: فروش طی دوره
A8: نام اوراق | D8: دارای مجوز از سازمان | F8: پذیرفته شده در بورس یا فرابورس | H8: تاریخ انتشار اوراق | J8: تاریخ سررسید | L8: نرخ سود اسمی | N8: نرخ سود موثر | P8: تعداد | R8: بهای تمام شده | T8: خالص ارزش فروش | V8: تعداد | X8: بهای تمام شده | Z8: تعداد | AB8: مبلغ فروش | AD8: تعداد | AF8: قیمت بازار هر سهم | AH8: بهای تمام شده | AJ8: خالص ارزش فروش | AL8: درصد به کل دارایی ها

Sheet تعدیل قیمت
A1: صندوق سرمایه گذاری بخشی صنایع معیار
A2: صورت وضعیت پرتفوی
A3: برای ماه منتهی به 1405/05/31
A4: اوراق بهاداری که ارزش آنها در تاریخ گزارش تعدیل شده
A5: (بر اساس دستورالعمل نحوه تعیین قیمت خرید و فروش اوراق بهادار در صندوق های سرمایه گذاری)
C7: 1405/05/31
A8: نام اوراق بهادار | C8: تعداد | E8: قیمت پایانی | G8: قیمت تعدیل شده | I8: درصد تعدیل | K8: خالص ارزش فروش تعدیل شده | M8: دلیل تعدیل

Sheet سپرده
A1: صندوق سرمایه گذاری بخشی صنایع معیار
A2: صورت وضعیت پرتفوی
A3: برای ماه منتهی به 1405/05/31
A7: -4-1 | B7: سرمایه‌گذاری در سپرده‌ بانکی
D8: 1405/04/31 | F8: تغییرات طی دوره | J8: 1405/05/31
A10: سپرده های بانکی | D10: مبلغ | F10: افزایش | H10: کاهش | J10: مبلغ | L10: درصد به کل دارایی ها
D11: 244699 | F11: 2365200000 | H11: 2000375000 | J11: 365069699 | L11: 0.01%
D12: 258649781 | F12: 669458004196 | H12: 669641075952 | J12: 75578025 | L12: 0.00%
D13: 91726208 | F13: 389950313156 | H13: 390001125000 | J13: 40914364 | L13: 0.00%
D14: 407500 | F14: 0 | H14: 0 | J14: 407500 | L14: 0.00%
D15: 0 | F15: 387800000000 | H15: 0 | J15: 387800000000 | L15: 6.90%
A16: جمع | D16: =SUM(D11:D15) -> 351028188 | E16: =SUM(E11:E15) -> 0 | F16: =SUM(F11:F15) -> 1449573517352 | G16: =SUM(G11:G15) -> 0 | H16: =SUM(H11:H15) -> 1061642575952 | I16: =SUM(I11:I15) -> 0 | J16: =SUM(J11:J15) -> 388281969588 | K16: =SUM(K11:K15) -> 0 | L16: 0

Sheet سپرده 
A1: صندوق سرمایه گذاری بخشی صنایع معیار
A2: صورت وضعیت پرتفوی صندوق س.بخشی صنایع معیار-ب (تخت گاز)
A3: برای ماه منتهی به 1405/05/31
A8: -4-1 | B8: سرمایه‌گذاری در سپرده‌ بانکی
D9: 1405/04/31 | F9: تغییرات طی دوره | J9: 1405/05/31 | O9: =سهام!AE6 -> جمع سرمایه‌گذاری‌ها و دارایی‌ها
O10: =سهام!AE7 -> 5620628755889
D11: مبلغ | F11: افزایش | H11: کاهش | J11: مبلغ | L11: درصد به کل دارایی ها
A12: سپرده بانکی | D12: 351028188 | E12: 0 | F12: 1449573517352 | G12: 0 | H12: 1061642575952 | I12: 0 | J12: 388281969588 | L12: =J12/$O$10 -> 0.06908159
A13: جمع | D13: =SUM(D12:D12) -> 351028188 | F13: =SUM(F12:F12) -> 1449573517352 | H13: =SUM(H12:H12) -> 1061642575952 | J13: =SUM(J12:J12) -> 388281969588 | L13: =SUM(L12) -> 0.06908159

Sheet درآمد
A1: صندوق سرمایه گذاری بخشی صنایع معیار
A2: صورت وضعیت درآمدها
A3: برای ماه منتهی به 1405/05/31
A7: -2 | B7: درآمد حاصل از سرمایه گذاری ها | N7: =سهام!AE6 -> جمع سرمایه‌گذاری‌ها و دارایی‌ها
N8: =سهام!AE7 -> 5620628755889
A9: شرح | D9: یادداشت | F9: مبلغ | H9: درصد از کل درآمدها | J9: درصد از کل دارایی ها
A10: درآمد حاصل از سرمایه گذاری در سهام و حق تقدم سهام | D10: 1-2 | F10: ='درآمد سرمایه گذاری در سهام'!J45 -> 1165618925236 | H10: =F10/$F$13 -> 0.99653844 | J10: =F10/$N$8 -> 0.2073823
A11: درآمد حاصل از سرمایه گذاری در سپرده بانکی و گواهی سپرده | D11: 2-2 | F11: 2305991599 | H11: =F11/$F$13 -> 0.0019714928 | J11: =F11/$N$8 -> 0.00041027289
A12: سایر درآمدها | D12: 3-2 | F12: ='سایر درآمدها'!D13 -> 1742885137 | H12: =F12/$F$13 -> 0.0014900685 | J12: =F12/$N$8 -> 0.00031008722
A13: جمع | F13: =SUM(F10:F12) -> 1169667801972 | H13: =SUM(H10:H12) -> 1 | J13: =SUM(J10:J12) -> 0.20810266

Sheet درآمد سرمایه گذاری در سهام
A1: صندوق سرمایه گذاری بخشی صنایع معیار
A2: صورت وضعیت درآمدها
A3: برای ماه منتهی به 1405/05/31
A5: -1-2 | B5: درآمد حاصل از سرمایه­گذاری در سهام و حق تقدم سهام
D8: طی ماه | N8: از ابتدای سال مالی
J9: جمع | U9: جمع
A10: سهام | D10: درآمد سود سهام | F10: درآمد تغییر ارزش | H10: درآمد فروش | J10: مبلغ | L10: درصد از کل درآمدها | N10: درآمد سود سهام | P10: درآمد تغییر ارزش | S10: درآمد فروش | U10: مبلغ | W10: درصد از کل درآمدها
A11: رینگ اسپرت نور نی ریز | D11: 0 | F11: 374950620 | H11: 3161747864 | J11: =D11+F11+H11 -> 3536698484 | L11: =AB11/$AB$45 -> 0.0042596887 | N11: 3850663507 | P11: 2859353445 | S11: 3161747864 | U11: =N11+P11+S11 -> 9871764816 | W11: =AD11/$AD$45 -> 0.0042596887 | AB11: =ABS(U11) -> 9871764816 | AD11: =ABS(U11) -> 9871764816
A12: ایران‌ خودرو | D12: 0 | F12: 612339726904 | H12: 404697333256 | J12: =D12+F12+H12 -> 1017037060160 | L12: =AB12/$AB$45 -> 0.82513345 | N12: 0 | P12: 1435375455853 | S12: 476858982599 | U12: =N12+P12+S12 -> 1912234438452 | W12: =AD12/$AD$45 -> 0.82513345 | AB12: =ABS(U12) -> 1912234438452 | AD12: =ABS(U12) -> 1912234438452
A13: بانک تجارت | D13: 2005200000 | F13: 43420156124 | H13: -2159981516 | J13: =D13+F13+H13 -> 43265374608 | L13: =AB13/$AB$45 -> 0.0064132172 | N13: 2005200000 | P13: 14898368025 | S13: -2041032861 | U13: =N13+P13+S13 -> 14862535164 | W13: =AD13/$AD$45 -> 0.0064132172 | AB13: =ABS(U13) -> 14862535164 | AD13: =ABS(U13) -> 14862535164
A14: سرمایه‌گذاری‌ رنا(هلدینگ‌ | D14: 0 | F14: 0 | H14: 0 | J14: =D14+F14+H14 -> 0 | L14: =AB14/$AB$45 -> 0.0043332134 | N14: 0 | P14: 0 | S14: 10042157238 | U14: =N14+P14+S14 -> 10042157238 | W14: =AD14/$AD$45 -> 0.0043332134 | AB14: =ABS(U14) -> 10042157238 | AD14: =ABS(U14) -> 10042157238
A15: توسعه معادن وص.معدنی خاورمیانه | D15: 0 | F15: 0 | H15: 0 | J15: =D15+F15+H15 -> 0 | L15: =AB15/$AB$45 -> 0.0076734921 | N15: 0 | P15: 0 | S15: 17783203350 | U15: =N15+P15+S15 -> 17783203350 | W15: =AD15/$AD$45 -> 0.0076734921 | AB15: =ABS(U15) -> 17783203350 | AD15: =ABS(U15) -> 17783203350
A16: پتروشیمی نوری | D16: 0 | F16: 0 | H16: 0 | J16: =D16+F16+H16 -> 0 | L16: =AB16/$AB$45 -> 0.00062102761 | N16: 0 | P16: 0 | S16: 1439222201 | U16: =N16+P16+S16 -> 1439222201 | W16: =AD16/$AD$45 -> 0.00062102761 | AB16: =ABS(U16) -> 1439222201 | AD16: =ABS(U16) -> 1439222201
A17: کیمیا کالای رازی | D17: 63045455 | F17: 634841943 | H17: 0 | J17: =D17+F17+H17 -> 697887398 | L17: =AB17/$AB$45 -> 0.0010423125 | N17: 63045455 | P17: 1743831449 | S17: 608666797 | U17: =N17+P17+S17 -> 2415543701 | W17: =AD17/$AD$45 -> 0.0010423125 | AB17: =ABS(U17) -> 2415543701 | AD17: =ABS(U17) -> 2415543701
A18: زرین ذرت شاهرود | D18: 0 | F18: 2507813585 | H18: 0 | J18: =D18+F18+H18 -> 2507813585 | L18: =AB18/$AB$45 -> 0.0026515729 | N18: 0 | P18: 3915253782 | S18: 2229726744 | U18: =N18+P18+S18 -> 6144980526 | W18: =AD18/$AD$45 -> 0.0026515729 | AB18: =ABS(U18) -> 6144980526 | AD18: =ABS(U18) -> 6144980526
A19: تولیدی کوچین | D19: 0 | F19: 2781155292 | H19: 0 | J19: =D19+F19+H19 -> 2781155292 | L19: =AB19/$AB$45 -> 0.0086505277 | N19: 399770799 | P19: 15717231905 | S19: 3930466107 | U19: =N19+P19+S19 -> 20047468811 | W19: =AD19/$AD$45 -> 0.0086505277 | AB19: =ABS(U19) -> 20047468811 | AD19: =ABS(U19) -> 20047468811
A20: شمش طلا GoldBar | D20: 0 | F20: 0 | H20: 0 | J20: =D20+F20+H20 -> 0 | L20: =AB20/$AB$45 -> 0.0028444625 | N20: 0 | P20: 0 | S20: 6591999342 | U20: =N20+P20+S20 -> 6591999342 | W20: =AD20/$AD$45 -> 0.0028444625 | AB20: =ABS(U20) -> 6591999342 | AD20: =ABS(U20) -> 6591999342
A21: کشت و صنعت شیفته آرای شرق | D21: 0 | F21: 2369540760 | H21: 0 | J21: =D21+F21+H21 -> 2369540760 | L21: =AB21/$AB$45 -> 0.0027237895 | N21: 282398453 | P21: 3669869732 | S21: 2360073340 | U21: =N21+P21+S21 -> 6312341525 | W21: =AD21/$AD$45 -> 0.0027237895 | AB21: =ABS(U21) -> 6312341525 | AD21: =ABS(U21) -> 6312341525
A22: پالایش نفت اصفهان | D22: 0 | F22: 0 | H22: 0 | J22: =D22+F22+H22 -> 0 | L22: =AB22/$AB$45 -> 0.0075075205 | N22: 0 | P22: 0 | S22: 17398566616 | U22: =N22+P22+S22 -> 17398566616 | W22: =AD22/$AD$45 -> 0.0075075205 | AB22: =ABS(U22) -> 17398566616 | AD22: =ABS(U22) -> 17398566616
... A44: شمش نقره SilverBar | D44: 0 | F44: 20543285026 | H44: 0 | J44: =D44+F44+H44 -> 20543285026 | L44: =AB44/$AB$45 -> 0.0088644735 | N44: 0 | P44: 20543285026 | S44: 0 | U44: =N44+P44+S44 -> 20543285026 | W44: =AD44/$AD$45 -> 0.0088644735 | AB44: =ABS(U44) -> 20543285026 | AD44: =ABS(U44) -> 20543285026
A45: جمع | D45: =SUM(D11:D44) -> 2068245455 | F45: =SUM(F11:F44) -> 757851580177 | H45: =SUM(H11:H44) -> 405699099604 | J45: =SUM(J11:J44) -> 1165618925236 | L45: =SUM(L11:L44) -> 1 | N45: =SUM(N11:N44) -> 39616464938 | Q45: =SUM(P11:Q44) -> 1538798427921 | S45: =SUM(S11:S44) -> 707439577357 | U45: =SUM(U11:U44) -> 2285854470216 | W45: =SUM(W11:W44) -> 1 | AB45: =SUM(AB11:AB44) -> 2317485061892 | AD45: =SUM(AD11:AD44) -> 2317485061892 | AE45: =SUM(W11:W44) -> 1

Sheet درآمد سرمایه گذاری در صندوق
A1: صندوق سرمایه گذاری بخشی صنایع معیار
A2: صورت وضعیت درآمدها
A3: برای ماه منتهی به 1405/05/31
A5: -2-2 | B5: درآمد حاصل از سرمایه­گذاری در واحدهای صندوق
D6: طی ماه | N6: از ابتدای سال مالی
J7: جمع | T7: جمع
A8: صندوق | D8: درآمد سود صندوق | F8: درآمد تغییر ارزش | H8: درآمد فروش | J8: مبلغ | L8: درصد از کل درآمدها | N8: درآمد سود صندوق | P8: درآمد تغییر ارزش | R8: درآمد فروش | T8: مبلغ | V8: درصد از کل درآمدها

Sheet درآمد سرمایه گذاری در اوراق به
A1: صندوق سرمایه گذاری بخشی صنایع معیار
A2: صورت وضعیت درآمدها
A3: برای ماه منتهی به 1405/05/31
A5: -3-2 | B5: درآمد حاصل از سرمایه­گذاری در اوراق بهادار با درآمد ثابت:
D6: طی ماه | L6: از ابتدای سال مالی
A8: عنوان | D8: درآمد سود اوراق | F8: درآمد تغییر ارزش | H8: درآمد فروش | J8: جمع | L8: درآمد سود اوراق | N8: درآمد تغییر ارزش | P8: درآمد فروش | R8: جمع

Sheet مبالغ تخصیصی اوراق
A1: صندوق سرمایه گذاری بخشی صنایع معیار
A2: صورت وضعیت درآمدها
A3: برای ماه منتهی به 1405/05/31
A5: -1-3-2 | B5: مبالغ تخصیص یافته بابت خرید و نگهداری اوراق بهادار با درآمد ثابت (نرخ سود ترجیحی)
M6: مبلغ شناسایی شده بابت قرارداد خرید و نگهداری اوراق بهادار | Q6: میانگین نرخ بازده تا سررسید قراردادهای منعقده
A7: طرف معامله | D7: نوع وابستگی | F7: نام ورقه بهادار | H7: تعداد اوراق | J7: بهای تمام شده اوراق | O7: نرخ اسمی
A8: شرکت... | D8: مدیر صندوق | F8: ورقه الف
F9: ورقه ب
A10: شرکت... | D10: شرکت مادر | F10: ورقه الف
F11: ورقه د
A12: صندوق سرمایه­گذاری اختصاصی بازارگردانی … | D12: صندوق­ سرمایه­گذاری اختصاصی بازارگردانی تحت مدیریت مدیر صندوق یا اشخاص تحت کنترل یا وابسته * | F12: ورقه ج
A13: سایر | D13: سایر | F13: ورقه ح
F14: ورقه ط
F15: ورقه ی
F16: ورقه س
A18: *به تفکیک هر یک از صندوق­های سرمایه­گذاری اختصاصی بازارگردانی طرف قرارداد افشا گردد.

Sheet درآمد سپرده بانکی...
A1: صندوق سرمایه گذاری بخشی صنایع معیار
A2: صورت وضعیت درآمدها
A3: برای ماه منتهی به 1405/05/31
A7: -4-2 | B7: درآمد حاصل از سرمایه­گذاری در سپرده بانکی و گواهی سپرده
D8: طی ماه | H8: از ابتدای سال مالی
A9: نام سپرده بانکی | D9: سود سپرده بانکی و گواهی سپرده | F9: درصد سود به میانگین سپرده | H9: سود سپرده بانکی و گواهی سپرده | J9: درصد سود به میانگین سپرده
D10: 0 | H10: 22727865
D11: 435708 | H11: 2631372
D12: 5210 | H12: 649618641
D13: 0 | H13: 1929643820
D14: 0 | H14: 2073008208
D15: 2305550681 | H15: 2305550681
A16: جمع | D16: 2305991599 | H16: 6983180587

Sheet درآمد سپرده بانکی
A1: صندوق سرمایه گذاری بخشی صنایع معیار
A2: صورت وضعیت درآمدها صندوق س.بخشی صنایع معیار-ب (تخت گاز)
A3: برای ماه منتهی به 1405/05/31
A7: 2-2 | B7: درآمد حاصل از سرمایه­گذاری در سپرده بانکی و گواهی سپرده
D8: طی ماه | H8: از ابتدای سال مالی
A9: نام سپرده بانکی | D9: سود سپرده بانکی و گواهی سپرده | F9: درصد سود به میانگین سپرده | H9: سود سپرده بانکی و گواهی سپرده | J9: درصد سود به میانگین سپرده
A10: سپرده بانکی | D10: 2305991599 | F10: =D10/R14 -> 0.011867194 | H10: 6983180587 | J10: =H10/R19 -> 0.035881728
A11: جمع | D11: =SUM(D10) -> 2305991599 | F11: =SUM(F10) -> 0.011867194 | H11: =SUM(H10:H10) -> 6983180587 | J11: =SUM(J10:J10) -> 0.035881728
O12: سپرده | P12: اول دوره | Q12: ماه قبل | R12: ='سپرده '!D13 -> 351028188
P13: انتها دوره | Q13: انتهای همین ماه | R13: ='سپرده '!J13 -> 388281969588
P14: میانگین | R14: =(R12+R13)/2 -> 194316498888
R17: 951267578
O18: از ابتدای سال مالی | R18: =R13 -> 388281969588
R19: =(R17+R18)/2 -> 194616618583
P22: بازه رو بزار روی 1404/07/01 تا الان بعد شش ستونه بعد بدهکار تا دوره رو بردار

Sheet سایر درآمدها
A1: صندوق سرمایه گذاری بخشی صنایع معیار
A2: صورت وضعیت درآمدها
A3: برای ماه منتهی به 1405/05/31
A7: -5-2 | B7: سایر درآمدها
D8: طی ماه | F8: 1405/05/31
A9: سایر درآمدها | D9: مبلغ | F9: مبلغ
A10: سایر درآمدها | D10: 0 | F10: 733717291
A11: معین برای سایر درآمدهای تنزیل سود بانک | D11: 0 | F11: 0
A12: تعدیل کارمزد کارگزار | D12: 1742885137 | F12: 3223152280
A13: جمع | D13: =SUM(D10:D12) -> 1742885137 | F13: =SUM(F10:F12) -> 3956869571

Sheet درآمد سود سهام
A1: صندوق سرمایه گذاری بخشی صنایع معیار
A2: صورت وضعیت درآمدها
A3: برای ماه منتهی به 1405/05/31
A5: درآمد سود سهام
A6: نام سهام | C6: اطلاعات مجمع | I6: طی ماه | O6: از ابتدای سال مالی
C7: تاریخ تشکیل مجمع | E7: تعداد سهام متعلقه در زمان مجمع | G7: سود متعلق به هر سهم | I7: جمع درآمد سود سهام | K7: هزینه تنزیل | M7: خالص درآمد سود سهام | O7: جمع درآمد سود سهام | Q7: هزینه تنزیل | S7: خالص درآمد سود سهام
A8: گروه‌بهمن‌ | C8: 1405/04/31 | E8: 100000000 | G8: 250 | I8: 0 | K8: 0 | M8: =I8-K8 -> 0 | O8: 25000000000 | Q8: 1360103627 | S8: =O8-Q8 -> 23639896373
A9: سیمان‌ شرق‌ | C9: 1404/09/15 | E9: 3400000 | G9: 2360 | I9: 0 | K9: 0 | M9: =I9-K9 -> 0 | O9: 8024000000 | Q9: 0 | S9: =O9-Q9 -> 8024000000
A10: رهیاب پیام گستران | C10: 1405/04/31 | E10: 585000 | G10: 414 | I10: 0 | K10: 0 | M10: =I10-K10 -> 0 | O10: 242190000 | Q10: 13176140 | S10: =O10-Q10 -> 229013860
A11: کشت وصنعت و دامپروری پگاه فارس | C11: 1405/01/30 | E11: 360000 | G11: 1000 | I11: 0 | K11: 0 | M11: =I11-K11 -> 0 | O11: 360000000 | Q11: 0 | S11: =O11-Q11 -> 360000000
A12: تولیدی کوچین | C12: 1405/02/10 | E12: 1475169 | G12: 271 | I12: 0 | K12: 0 | M12: =I12-K12 -> 0 | O12: 399770799 | Q12: 0 | S12: =O12-Q12 -> 399770799
A13: نیان باتری خاوران | C13: 1405/04/16 | E13: 257500 | G13: 2050 | I13: 0 | K13: 0 | M13: =I13-K13 -> 0 | O13: 527875000 | Q13: 23161509 | S13: =O13-Q13 -> 504713491
A14: رینگ اسپرت نور نی ریز | C14: 1405/04/31 | E14: 2650000 | G14: 1470 | I14: 0 | K14: 0 | M14: =I14-K14 -> 0 | O14: 3895500000 | Q14: 44836493 | S14: =O14-Q14 -> 3850663507
A15: کشت و صنعت شیفته آرای شرق | C15: 1405/04/30 | E15: 600000 | G15: 500 | I15: 0 | K15: 0 | M15: =I15-K15 -> 0 | O15: 300000000 | Q15: 17601547 | S15: =O15-Q15 -> 282398453
A16: کولان سل | C16: 1405/04/10 | E16: 219000 | G16: 1177 | I16: 0 | K16: 0 | M16: =I16-K16 -> 0 | O16: 257763000 | Q16: 0 | S16: =O16-Q16 -> 257763000
A17: بانک تجارت | C17: 1405/04/31 | E17: 222800000 | G17: 9 | I17: 2005200000 | K17: 0 | M17: =I17-K17 -> 2005200000 | O17: 2005200000 | Q17: 0 | S17: =O17-Q17 -> 2005200000
A18: کیمیا کالای رازی | C18: 1405/04/31 | E18: 176250 | G18: 380 | I18: 66975000 | K18: 3929545 | M18: =I18-K18 -> 63045455 | O18: 66975000 | Q18: 3929545 | S18: =O18-Q18 -> 63045455
A19: جمع | I19: =SUM(I8:I18) -> 2072175000 | K19: =SUM(K8:K18) -> 3929545 | M19: =SUM(M8:M18) -> 2068245455 | O19: =SUM(O8:O18) -> 41079273799 | Q19: =SUM(Q8:Q18) -> 1462808861 | S19: =SUM(S8:S18) -> 39616464938

Sheet درآمد سود صندوق
A1: صندوق سرمایه گذاری بخشی صنایع معیار
A2: صورت وضعیت درآمدها
A3: برای ماه منتهی به 1405/05/31
A5: درآمد سود صندوق
I6: طی ماه | K6: از ابتدای سال مالی
A7: نام صندوق | C7: تاریخ تقسیم سود | E7: تعداد واحد صندوق در زمان تقسیم سود | G7: سود متعلق به هر واحد | I7: خالص درآمد سود صندوق | K7: خالص درآمد سود صندوق

Sheet سود اوراق بهادار
A1: صندوق سرمایه گذاری بخشی صنایع معیار
A2: صورت وضعیت درآمدها
A3: برای ماه منتهی به 1405/05/31
A5: سود اوراق بهادار با درآمد ثابت
A6: شرح | I6: طی ماه | O6: از ابتدای سال مالی
C7: تاریخ دریافت سود | E7: تاریخ سررسید | G7: نرخ سود علی الحساب | I7: درآمد سود | K7: هزینه تنزیل | M7: خالص درآمد | O7: درآمد سود | Q7: هزینه تنزیل | S7: خالص درآمد

Sheet سود سپرده بانکی
A1: صندوق سرمایه گذاری بخشی صنایع معیار
A2: صورت وضعیت درآمدها
A3: برای ماه منتهی به 1405/05/31
A5: سود سپرده بانکی
A6: شرح | C6: طی ماه | I6: از ابتدای سال مالی
C7: درآمد سود | E7: هزینه تنزیل | G7: خالص درآمد | I7: درآمد سود | K7: هزینه تنزیل | M7: خالص درآمد
A8: سود سپرده بانکی | C8: 2305991599 | D8: 0 | E8: 32066497 | G8: 2273925102 | H8: 0 | I8: 6983180587 | K8: 46056538 | L8: 0 | M8: 6937124049
A9: جمع | C9: =SUM(C8) -> 2305991599 | E9: =SUM(E8) -> 32066497 | G9: =SUM(G8) -> 2273925102 | I9: =SUM(I8) -> 6983180587 | K9: =SUM(K8) -> 46056538 | M9: =SUM(M8) -> 6937124049

Sheet سود سپرده بانکی.
A1: صندوق سرمایه گذاری بخشی صنایع معیار
A2: صورت وضعیت درآمدها
A3: برای ماه منتهی به 1405/05/31
A5: سود سپرده بانکی
A6: شرح | C6: طی ماه | I6: از ابتدای سال مالی
C7: درآمد سود | E7: هزینه تنزیل | G7: خالص درآمد | I7: درآمد سود | K7: هزینه تنزیل | M7: خالص درآمد
C8: 0 | E8: 0 | G8: 0 | I8: 22727865 | K8: 0 | M8: 22727865
C9: 435708 | E9: 0 | G9: 435708 | I9: 2631372 | K9: 0 | M9: 2631372
C10: 5210 | E10: 0 | G10: 5210 | I10: 649618641 | K10: 0 | M10: 649618641
C11: 0 | E11: 0 | G11: 0 | I11: 1929643820 | K11: 0 | M11: 1929643820
C12: 0 | E12: -13990041 | G12: 13990041 | I12: 2073008208 | K12: 0 | M12: 2073008208
C13: 2305550681 | E13: 46056538 | G13: 2259494143 | I13: 2305550681 | K13: 46056538 | M13: 2259494143
A14: جمع | C14: =SUM(C8:C13) -> 2305991599 | D14: =SUM(D8:D13) -> 0 | E14: =SUM(E8:E13) -> 32066497 | F14: =SUM(F8:F13) -> 0 | G14: =SUM(G8:G13) -> 2273925102 | H14: =SUM(H8:H13) -> 0 | I14: =SUM(I8:I13) -> 6983180587 | J14: =SUM(J8:J13) -> 0 | ... M14: =SUM(M8:M13) -> 6937124049

Sheet درآمد ناشی از فروش
A1: صندوق سرمایه گذاری بخشی صنایع معیار
A2: صورت وضعیت درآمدها
A3: برای ماه منتهی به 1405/05/31
A6: سود(زیان) حاصل از فروش اوراق بهادار
A7: شرح | C7: طی ماه | K7: از ابتدای سال مالی
C8: تعداد | E8: خالص بهای فروش | G8: ارزش دفتری | I8: سود و زیان ناشی از فروش | K8: تعداد | M8: خالص بهای فروش | O8: ارزش دفتری | Q8: سود و زیان ناشی از فروش
A9: رینگ اسپرت نور نی ریز | C9: 1325000 | E9: 24152100005 | G9: 20990352141 | I9: =E9-G9 -> 3161747864 | K9: 1325000 | M9: 24152100005 | O9: 20990352141 | Q9: =M9-O9 -> 3161747864
A10: ایران‌ خودرو | C10: 2275180000 | E10: 1314163837675 | G10: 909466504419 | I10: =E10-G10 -> 404697333256 | K10: 2839517945 | M10: 1611856748589 | O10: 1134997765990 | Q10: =M10-O10 -> 476858982599
A11: بانک تجارت | C11: 145000000 | E11: 92370414676 | G11: 94530396192 | I11: =E11-G11 -> -2159981516 | K11: 155000000 | M11: 99008701001 | O11: 101049733862 | Q11: =M11-O11 -> -2041032861
A12: سرمایه‌گذاری‌ رنا(هلدینگ‌ | C12: 0 | E12: 0 | G12: 0 | I12: =E12-G12 -> 0 | K12: 15092196 | M12: 82020738366 | O12: 71978581128 | Q12: =M12-O12 -> 10042157238
A13: توسعه معادن وص.معدنی خاورمیانه | C13: 0 | E13: 0 | G13: 0 | I13: =E13-G13 -> 0 | K13: 23689630 | M13: 126788177326 | O13: 109004973976 | Q13: =M13-O13 -> 17783203350
A14: پتروشیمی نوری | C14: 0 | E14: 0 | G14: 0 | I14: =E14-G14 -> 0 | K14: 470000 | M14: 20230444247 | O14: 18791222046 | Q14: =M14-O14 -> 1439222201
A15: کیمیا کالای رازی | C15: 0 | E15: 0 | G15: 0 | I15: =E15-G15 -> 0 | K15: 58750 | M15: 2217430399 | O15: 1608763602 | Q15: =M15-O15 -> 608666797
A16: زرین ذرت شاهرود | C16: 0 | E16: 0 | G16: 0 | I16: =E16-G16 -> 0 | K16: 435000 | M16: 9709701648 | O16: 7479974904 | Q16: =M16-O16 -> 2229726744
A17: تولیدی کوچین | C17: 0 | E17: 0 | G17: 0 | I17: =E17-G17 -> 0 | K17: 375000 | M17: 10623490799 | O17: 6693024692 | Q17: =M17-O17 -> 3930466107
A18: شمش طلا GoldBar | C18: 0 | E18: 0 | G18: 0 | I18: =E18-G18 -> 0 | K18: 5907 | M18: 84253665574 | O18: 77661666232 | Q18: =M18-O18 -> 6591999342
A19: کشت و صنعت شیفته آرای شرق | C19: 0 | E19: 0 | G19: 0 | I19: =E19-G19 -> 0 | K19: 300000 | M19: 6727590600 | O19: 4367517260 | Q19: =M19-O19 -> 2360073340
A20: پالایش نفت اصفهان | C20: 0 | E20: 0 | G20: 0 | I20: =E20-G20 -> 0 | K20: 22891766 | M20: 108212085634 | O20: 90813519018 | Q20: =M20-O20 -> 17398566616
... A38: زامیاد | C38: 0 | E38: 0 | G38: 0 | I38: =E38-G38 -> 0 | K38: 49633207 | M38: 78221123147 | O38: 66842558601 | Q38: =M38-O38 -> 11378564546
A39: جمع | E39: =SUM(E9:E38) -> 1430686352356 | G39: =SUM(G9:G38) -> 1024987252752 | I39: =SUM(I9:I38) -> 405699099604 | M39: =SUM(M9:M38) -> 3510300349405 | O39: =SUM(O9:O38) -> 2802860772048 | Q39: =SUM(Q9:Q38) -> 707439577357

Sheet درآمد اعمال اختیار
A1: صندوق سرمایه گذاری بخشی صنایع معیار
A2: صورت وضعیت درآمدها
A3: برای ماه منتهی به 1405/05/31
A5: سود (زیان) ناشی از اعمال اختیار معامله سهام
E7: طی ماه | Y7: از ابتدای سال مالی
A8: نام سهم | C8: نام اختیار | E8: تاریخ اعمال | G8: تعداد | I8: قیمت اعمال | K8: ارزش اعمال | M8: ارزش دفتری اختیار | O8: بهای تمام شده سهم | Q8: کارمزد اعمال | S8: مالیات اعمال | U8: کارمزد فروش اختیار | W8: سود(زیان)اعمال | Y8: سود(زیان)اعمال

Sheet درآمد ناشی از تغییر قیمت اوراق
A1: صندوق سرمایه گذاری بخشی صنایع معیار
A2: صورت وضعیت درآمدها
A3: برای ماه منتهی به 1405/05/31
A6: درآمد ناشی از تغییر قیمت اوراق بهادار
A7: شرح | C7: طی ماه | K7: از ابتدای سال مالی
C8: تعداد | E8: خالص ارزش فروش | G8: ارزش دفتری | I8: سود و زیان ناشی از تغییر قیمت | K8: تعداد | M8: خالص ارزش فروش | O8: ارزش دفتری | Q8: سود و زیان ناشی از تغییر قیمت
A9: ایران‌ خودرو | C9: 5924820000 | E9: 3803726678485 | G9: 3191386951581 | I9: 612339726904 | K9: 5924820000 | M9: 3803726678485 | O9: 2368351222632 | Q9: 1435375455853
A10: گروه‌بهمن‌ | C10: 100000000 | E10: 243205377000 | G10: 169479716000 | I10: 73725661000 | K10: 100000000 | M10: 243205377000 | O10: 199287899733 | Q10: 43917477267
A11: بانک تجارت | C11: 77800000 | E11: 65618815100 | G11: 22198658976 | I11: 43420156124 | K11: 77800000 | M11: 65618815100 | O11: 50720447075 | Q11: 14898368025
A12: بهمن دیزل | C12: 406500000 | E12: 660296644935 | G12: 667104146117 | I12: -6807501182 | K12: 406500000 | M12: 660296644935 | O12: 667104146117 | Q12: -6807501182
A13: پتروشیمی پردیس | C13: 3400000 | E13: 35390301820 | G13: 35322827460 | I13: 67474359 | K13: 3400000 | M13: 35390301820 | O13: 43936736211 | Q13: -8546434391
A14: کشت وصنعت و دامپروری پگاه فارس | C14: 360000 | E14: 7340813460 | G14: 6008393304 | I14: 1332420156 | K14: 360000 | M14: 7340813460 | O14: 3562912187 | Q14: 3777901273
A15: تولیدی کوچین | C15: 1475169 | E15: 22410256596 | G15: 19629101304 | I15: 2781155292 | K15: 1475169 | M15: 22410256596 | O15: 6693024691 | Q15: 15717231905
A16: نیان باتری خاوران | C16: 257500 | E16: 4412649496 | G16: 3357395158 | I16: 1055254338 | K16: 257500 | M16: 4412649496 | O16: 4199053015 | Q16: 213596481
A17: رینگ اسپرت نور نی ریز | C17: 1325000 | E17: 23849705585 | G17: 23474754964 | I17: 374950620 | K17: 1325000 | M17: 23849705585 | O17: 20990352139 | Q17: 2859353445
A18: زرین ذرت شاهرود | C18: 435000 | E18: 11395228680 | G18: 8887415095 | I18: 2507813585 | K18: 435000 | M18: 11395228680 | O18: 7479974898 | Q18: 3915253782
A19: کیمیا کالای رازی | C19: 176250 | E19: 3352595052 | G19: 2717753109 | I19: 634841943 | K19: 176250 | M19: 3352595052 | O19: 1608763603 | Q19: 1743831449
A20: کشت و صنعت شیفته آرای شرق | C20: 600000 | E20: 8037387000 | G20: 5667846240 | I20: 2369540760 | K20: 600000 | M20: 8037387000 | O20: 4367517268 | Q20: 3669869732
... A24: شمش نقره SilverBar | C24: 62353 | E24: 280541475362 | G24: 259998190336 | I24: 20543285026 | K24: 62353 | M24: 280541475362 | O24: 259998190336 | Q24: 20543285026
A25: جمع | E25: =SUM(E9:E24) -> 5197628781301 | G25: =SUM(G9:G24) -> 4439777201121 | I25: =SUM(I9:I24) -> 757851580177 | M25: =SUM(M9:M24) -> 5197628781301 | O25: =SUM(O9:O24) -> 3658830353380 | Q25: =SUM(Q9:Q24) -> 1538798427921
